BEGIN:VCALENDAR
VERSION:2.0
PRODID:-//Sabre//Sabre VObject 4.5.8//EN
CALSCALE:GREGORIAN
BEGIN:VEVENT
UID:sabre-vobject-abd77eb6-1e07-452e-8904-9e0da1f3a4a9
DTSTAMP:20260421T100421Z
SUMMARY:Maiandacht
DESCRIPTION:https://obermedlingen.bistum-augsburg-portal.de/maiandacht_id17
 45176
DTSTART;TZID=Europe/Berlin:20260522T190000
DURATION:PT30M
LOCATION:St. Radegundis
END:VEVENT
END:VCALENDAR
